Package: immApex Version: 1.0.4 Command: /Library/Frameworks/R.framework/Resources/bin/R CMD build --keep-empty-dirs --no-resave-data immApex StartedAt: 2025-02-04 01:47:07 -0500 (Tue, 04 Feb 2025) EndedAt: 2025-02-04 01:48:22 -0500 (Tue, 04 Feb 2025) EllapsedTime: 74.9 seconds RetCode: 0 Status: OK PackageFile: immApex_1.0.4.tar.gz PackageFileSize: 2.753 MiB