Package: immApex Version: 1.0.4 Command: /Library/Frameworks/R.framework/Resources/bin/R CMD check --install=check:immApex.install-out.txt --library=/Library/Frameworks/R.framework/Resources/library --no-vignettes --timings immApex_1.0.4.tar.gz StartedAt: 2025-01-31 22:29:43 -0500 (Fri, 31 Jan 2025) EndedAt: 2025-01-31 23:04:01 -0500 (Fri, 31 Jan 2025) EllapsedTime: 2058.9 seconds RetCode: 1 Status: ERROR CheckDir: immApex.Rcheck Warnings: NA