Package: immApex Version: 1.0.4 Command: /Library/Frameworks/R.framework/Resources/bin/R CMD INSTALL immApex StartedAt: 2025-02-03 15:32:07 -0500 (Mon, 03 Feb 2025) EndedAt: 2025-02-03 15:32:22 -0500 (Mon, 03 Feb 2025) EllapsedTime: 15.2 seconds RetCode: 0 Status: OK