Package: immApex Version: 1.0.4 Command: /Library/Frameworks/R.framework/Resources/bin/R CMD build --keep-empty-dirs --no-resave-data immApex StartedAt: 2025-02-03 19:43:27 -0500 (Mon, 03 Feb 2025) EndedAt: 2025-02-03 19:45:59 -0500 (Mon, 03 Feb 2025) EllapsedTime: 151.6 seconds RetCode: 1 Status: ERROR PackageFile: None PackageFileSize: NA