Package: immApex Version: 1.0.4 Command: /home/biocbuild/bbs-3.20-bioc/R/bin/R CMD check --install=check:immApex.install-out.txt --library=/home/biocbuild/bbs-3.20-bioc/R/site-library --timings immApex_1.0.4.tar.gz StartedAt: 2025-02-03 23:20:25 -0500 (Mon, 03 Feb 2025) EndedAt: 2025-02-03 23:24:26 -0500 (Mon, 03 Feb 2025) EllapsedTime: 241.2 seconds RetCode: 0 Status: OK CheckDir: immApex.Rcheck Warnings: 0