Package: immApex Version: 1.0.4 Command: /home/biocbuild/bbs-3.20-bioc/R/bin/R CMD INSTALL immApex StartedAt: 2025-02-03 15:22:09 -0500 (Mon, 03 Feb 2025) EndedAt: 2025-02-03 15:22:31 -0500 (Mon, 03 Feb 2025) EllapsedTime: 22.2 seconds RetCode: 0 Status: OK