Package: immApex Version: 1.0.4 Command: rm -rf immApex.buildbin-libdir && mkdir immApex.buildbin-libdir && F:\biocbuild\bbs-3.20-bioc\R\bin\R.exe CMD INSTALL --build --library=immApex.buildbin-libdir immApex_1.0.4.tar.gz StartedAt: 2025-01-31 08:52:03 -0500 (Fri, 31 Jan 2025) EndedAt: 2025-01-31 08:52:51 -0500 (Fri, 31 Jan 2025) EllapsedTime: 48.3 seconds RetCode: 0 Status: OK PackageFile: immApex_1.0.4.zip PackageFileSize: 1.682 MiB