Package: immApex Version: 1.0.4 Command: F:\biocbuild\bbs-3.20-bioc\R\bin\R.exe CMD check --no-multiarch --install=check:immApex.install-out.txt --library=F:\biocbuild\bbs-3.20-bioc\R\library --no-vignettes --timings immApex_1.0.4.tar.gz StartedAt: 2025-01-31 03:03:48 -0500 (Fri, 31 Jan 2025) EndedAt: 2025-01-31 03:10:20 -0500 (Fri, 31 Jan 2025) EllapsedTime: 391.5 seconds RetCode: 0 Status: OK CheckDir: immApex.Rcheck Warnings: 0