Package: immApex Version: 1.0.4 Command: /home/biocbuild/R/R/bin/R CMD build --keep-empty-dirs --no-resave-data immApex StartedAt: 2025-02-04 00:22:41 -0000 (Tue, 04 Feb 2025) EndedAt: 2025-02-04 00:25:41 -0000 (Tue, 04 Feb 2025) EllapsedTime: 180.1 seconds RetCode: 0 Status: OK PackageFile: immApex_1.0.4.tar.gz PackageFileSize: 2.871 MiB