Package: immApex Version: 1.0.4 Command: /home/biocbuild/R/R/bin/R CMD check --install=check:immApex.install-out.txt --library=/home/biocbuild/R/R/site-library --no-vignettes --timings immApex_1.0.4.tar.gz StartedAt: 2025-01-31 07:19:23 -0000 (Fri, 31 Jan 2025) EndedAt: 2025-01-31 07:25:12 -0000 (Fri, 31 Jan 2025) EllapsedTime: 348.3 seconds RetCode: 0 Status: OK CheckDir: immApex.Rcheck Warnings: 0