Package: immunoClust Version: 1.38.0 Command: rm -rf immunoClust.buildbin-libdir && mkdir immunoClust.buildbin-libdir && /Users/biocbuild/BBS/utils/build-universal.sh immunoClust_1.38.0.tar.gz /Library/Frameworks/R.framework/Resources/bin/R immunoClust.buildbin-libdir StartedAt: 2025-02-01 15:21:18 -0500 (Sat, 01 Feb 2025) EndedAt: 2025-02-01 15:21:51 -0500 (Sat, 01 Feb 2025) EllapsedTime: 33.0 seconds RetCode: 0 Status: OK PackageFile: immunoClust_1.38.0.tgz PackageFileSize: 3.253 MiB