Package: immunoClust Version: 1.38.0 Command: rm -rf immunoClust.buildbin-libdir && mkdir immunoClust.buildbin-libdir && /Users/biocbuild/BBS/utils/build-universal.sh immunoClust_1.38.0.tar.gz /Library/Frameworks/R.framework/Resources/bin/R immunoClust.buildbin-libdir StartedAt: 2025-01-31 13:00:08 -0500 (Fri, 31 Jan 2025) EndedAt: 2025-01-31 13:01:16 -0500 (Fri, 31 Jan 2025) EllapsedTime: 67.4 seconds RetCode: 0 Status: OK PackageFile: immunoClust_1.38.0.tgz PackageFileSize: 3.371 MiB