Package: immunoClust Version: 1.38.0 Command: /Library/Frameworks/R.framework/Resources/bin/R CMD build --keep-empty-dirs --no-resave-data immunoClust StartedAt: 2025-01-30 19:59:10 -0500 (Thu, 30 Jan 2025) EndedAt: 2025-01-30 20:04:32 -0500 (Thu, 30 Jan 2025) EllapsedTime: 322.1 seconds RetCode: 0 Status: OK PackageFile: immunoClust_1.38.0.tar.gz PackageFileSize: 2.501 MiB