Package: immunoClust Version: 1.38.0 Command: rm -rf immunoClust.buildbin-libdir && mkdir immunoClust.buildbin-libdir && F:\biocbuild\bbs-3.20-bioc\R\bin\R.exe CMD INSTALL --build --library=immunoClust.buildbin-libdir immunoClust_1.38.0.tar.gz StartedAt: 2025-02-04 08:44:13 -0500 (Tue, 04 Feb 2025) EndedAt: 2025-02-04 08:46:21 -0500 (Tue, 04 Feb 2025) EllapsedTime: 128.0 seconds RetCode: 0 Status: OK PackageFile: immunoClust_1.38.0.zip PackageFileSize: 3.552 MiB