Package: immunoClust Version: 1.38.0 Command: chmod a+r immunoClust -R && F:\biocbuild\bbs-3.20-bioc\R\bin\R.exe CMD build --keep-empty-dirs --no-resave-data immunoClust StartedAt: 2025-02-03 19:52:00 -0500 (Mon, 03 Feb 2025) EndedAt: 2025-02-03 19:55:55 -0500 (Mon, 03 Feb 2025) EllapsedTime: 235.6 seconds RetCode: 0 Status: OK PackageFile: immunoClust_1.38.0.tar.gz PackageFileSize: 2.509 MiB