Package: immunotation Version: 1.14.0 Command: /Library/Frameworks/R.framework/Resources/bin/R CMD check --install=check:immunotation.install-out.txt --library=/Library/Frameworks/R.framework/Resources/library --no-vignettes --timings immunotation_1.14.0.tar.gz StartedAt: 2025-02-04 23:03:46 -0500 (Tue, 04 Feb 2025) EndedAt: 2025-02-04 23:08:33 -0500 (Tue, 04 Feb 2025) EllapsedTime: 286.6 seconds RetCode: 0 Status: OK CheckDir: immunotation.Rcheck Warnings: 0