Package: immunotation Version: 1.14.0 Command: /Library/Frameworks/R.framework/Resources/bin/R CMD INSTALL immunotation StartedAt: 2025-02-03 15:34:07 -0500 (Mon, 03 Feb 2025) EndedAt: 2025-02-03 15:35:04 -0500 (Mon, 03 Feb 2025) EllapsedTime: 56.3 seconds RetCode: 0 Status: OK