Package: immunotation Version: 1.14.0 Command: rm -rf immunotation.buildbin-libdir && mkdir immunotation.buildbin-libdir && /Users/biocbuild/BBS/utils/build-universal.sh immunotation_1.14.0.tar.gz /Library/Frameworks/R.framework/Resources/bin/R immunotation.buildbin-libdir StartedAt: 2025-02-04 13:10:57 -0500 (Tue, 04 Feb 2025) EndedAt: 2025-02-04 13:17:39 -0500 (Tue, 04 Feb 2025) EllapsedTime: 402.1 seconds RetCode: 0 Status: OK PackageFile: immunotation_1.14.0.tgz PackageFileSize: 4.258 MiB