Package: immunotation Version: 1.14.0 Command: /Library/Frameworks/R.framework/Resources/bin/R CMD build --keep-empty-dirs --no-resave-data immunotation StartedAt: 2025-02-03 19:43:50 -0500 (Mon, 03 Feb 2025) EndedAt: 2025-02-03 19:51:19 -0500 (Mon, 03 Feb 2025) EllapsedTime: 449.5 seconds RetCode: 0 Status: OK PackageFile: immunotation_1.14.0.tar.gz PackageFileSize: 2.222 MiB