Package: immunotation Version: 1.14.0 Command: /home/biocbuild/bbs-3.20-bioc/R/bin/R CMD build --keep-empty-dirs --no-resave-data --md5 immunotation StartedAt: 2025-02-03 17:52:40 -0500 (Mon, 03 Feb 2025) EndedAt: 2025-02-03 18:03:04 -0500 (Mon, 03 Feb 2025) EllapsedTime: 623.8 seconds RetCode: 0 Status: OK PackageFile: immunotation_1.14.0.tar.gz PackageFileSize: 2.073 MiB