Package: immunotation Version: 1.14.0 Command: rm -rf immunotation.buildbin-libdir && mkdir immunotation.buildbin-libdir && F:\biocbuild\bbs-3.20-bioc\R\bin\R.exe CMD INSTALL --build --library=immunotation.buildbin-libdir immunotation_1.14.0.tar.gz StartedAt: 2025-02-04 08:44:17 -0500 (Tue, 04 Feb 2025) EndedAt: 2025-02-04 08:46:49 -0500 (Tue, 04 Feb 2025) EllapsedTime: 152.2 seconds RetCode: 0 Status: OK PackageFile: immunotation_1.14.0.zip PackageFileSize: 4.05 MiB