Package: immunotation Version: 1.14.0 Command: F:\biocbuild\bbs-3.20-bioc\R\bin\R.exe CMD check --no-multiarch --install=check:immunotation.install-out.txt --library=F:\biocbuild\bbs-3.20-bioc\R\library --no-vignettes --timings immunotation_1.14.0.tar.gz StartedAt: 2025-02-04 02:52:58 -0500 (Tue, 04 Feb 2025) EndedAt: 2025-02-04 02:57:52 -0500 (Tue, 04 Feb 2025) EllapsedTime: 293.8 seconds RetCode: 0 Status: OK CheckDir: immunotation.Rcheck Warnings: 0