Package: immunotation Version: 1.14.0 Command: F:\biocbuild\bbs-3.20-bioc\R\bin\R.exe CMD INSTALL immunotation StartedAt: 2025-02-10 15:38:15 -0500 (Mon, 10 Feb 2025) EndedAt: 2025-02-10 15:40:33 -0500 (Mon, 10 Feb 2025) EllapsedTime: 138.3 seconds RetCode: 0 Status: OK