Package: immunotation Version: 1.14.0 Command: /home/biocbuild/R/R/bin/R CMD build --keep-empty-dirs --no-resave-data immunotation StartedAt: 2025-02-04 00:23:59 -0000 (Tue, 04 Feb 2025) EndedAt: 2025-02-04 00:33:57 -0000 (Tue, 04 Feb 2025) EllapsedTime: 598.3 seconds RetCode: 0 Status: OK PackageFile: immunotation_1.14.0.tar.gz PackageFileSize: 2.127 MiB