Package: immunotation Version: 1.14.0 Command: /home/biocbuild/R/R/bin/R CMD check --install=check:immunotation.install-out.txt --library=/home/biocbuild/R/R/site-library --no-vignettes --timings immunotation_1.14.0.tar.gz StartedAt: 2025-02-04 08:01:17 -0000 (Tue, 04 Feb 2025) EndedAt: 2025-02-04 08:10:52 -0000 (Tue, 04 Feb 2025) EllapsedTime: 575.5 seconds RetCode: 0 Status: OK CheckDir: immunotation.Rcheck Warnings: 0