Package: impute Version: 1.80.0 Command: /Library/Frameworks/R.framework/Resources/bin/R CMD check --install=check:impute.install-out.txt --library=/Library/Frameworks/R.framework/Resources/library --no-vignettes --timings impute_1.80.0.tar.gz StartedAt: 2025-02-11 22:42:51 -0500 (Tue, 11 Feb 2025) EndedAt: 2025-02-11 22:43:12 -0500 (Tue, 11 Feb 2025) EllapsedTime: 21.0 seconds RetCode: 0 Status: WARNINGS CheckDir: impute.Rcheck Warnings: 1