Package: impute Version: 1.80.0 Command: /home/biocbuild/bbs-3.20-bioc/R/bin/R CMD check --install=check:impute.install-out.txt --library=/home/biocbuild/bbs-3.20-bioc/R/site-library --timings impute_1.80.0.tar.gz StartedAt: 2025-02-03 23:21:29 -0500 (Mon, 03 Feb 2025) EndedAt: 2025-02-03 23:21:43 -0500 (Mon, 03 Feb 2025) EllapsedTime: 14.0 seconds RetCode: 0 Status: WARNINGS CheckDir: impute.Rcheck Warnings: 1