Package: impute Version: 1.80.0 Command: /home/biocbuild/bbs-3.20-bioc/R/bin/R CMD INSTALL impute StartedAt: 2025-02-10 15:11:41 -0500 (Mon, 10 Feb 2025) EndedAt: 2025-02-10 15:11:49 -0500 (Mon, 10 Feb 2025) EllapsedTime: 7.8 seconds RetCode: 0 Status: OK