Package: impute Version: 1.80.0 Command: chmod a+r impute -R && F:\biocbuild\bbs-3.20-bioc\R\bin\R.exe CMD build --keep-empty-dirs --no-resave-data impute StartedAt: 2025-02-10 19:46:19 -0500 (Mon, 10 Feb 2025) EndedAt: 2025-02-10 19:46:21 -0500 (Mon, 10 Feb 2025) EllapsedTime: 2.0 seconds RetCode: 0 Status: OK PackageFile: impute_1.80.0.tar.gz PackageFileSize: 626.5 KiB