Package: impute Version: 1.80.0 Command: F:\biocbuild\bbs-3.20-bioc\R\bin\R.exe CMD INSTALL impute StartedAt: 2025-02-10 15:25:11 -0500 (Mon, 10 Feb 2025) EndedAt: 2025-02-10 15:25:25 -0500 (Mon, 10 Feb 2025) EllapsedTime: 14.2 seconds RetCode: 0 Status: OK