Package: impute Version: 1.80.0 Command: /home/biocbuild/R/R/bin/R CMD build --keep-empty-dirs --no-resave-data impute StartedAt: 2025-02-04 00:24:03 -0000 (Tue, 04 Feb 2025) EndedAt: 2025-02-04 00:24:04 -0000 (Tue, 04 Feb 2025) EllapsedTime: 1.0 seconds RetCode: 0 Status: OK PackageFile: impute_1.80.0.tar.gz PackageFileSize: 626.6 KiB