Package: infercnv Version: 1.22.0 Command: /Library/Frameworks/R.framework/Resources/bin/R CMD build --keep-empty-dirs --no-resave-data infercnv StartedAt: 2025-02-04 01:51:33 -0500 (Tue, 04 Feb 2025) EndedAt: 2025-02-04 01:53:56 -0500 (Tue, 04 Feb 2025) EllapsedTime: 143.7 seconds RetCode: 0 Status: OK PackageFile: infercnv_1.22.0.tar.gz PackageFileSize: 3.967 MiB