Package: infercnv Version: 1.22.0 Command: /Library/Frameworks/R.framework/Resources/bin/R CMD INSTALL infercnv StartedAt: 2025-02-03 17:20:08 -0500 (Mon, 03 Feb 2025) EndedAt: 2025-02-03 17:21:01 -0500 (Mon, 03 Feb 2025) EllapsedTime: 53.2 seconds RetCode: 0 Status: OK