Package: infercnv Version: 1.22.0 Command: /Library/Frameworks/R.framework/Resources/bin/R CMD build --keep-empty-dirs --no-resave-data infercnv StartedAt: 2025-02-03 19:45:46 -0500 (Mon, 03 Feb 2025) EndedAt: 2025-02-03 19:49:51 -0500 (Mon, 03 Feb 2025) EllapsedTime: 245.0 seconds RetCode: 0 Status: OK PackageFile: infercnv_1.22.0.tar.gz PackageFileSize: 3.967 MiB