Package: infercnv Version: 1.22.0 Command: /home/biocbuild/bbs-3.20-bioc/R/bin/R CMD check --install=check:infercnv.install-out.txt --library=/home/biocbuild/bbs-3.20-bioc/R/site-library --timings infercnv_1.22.0.tar.gz StartedAt: 2025-02-03 23:22:01 -0500 (Mon, 03 Feb 2025) EndedAt: 2025-02-03 23:30:25 -0500 (Mon, 03 Feb 2025) EllapsedTime: 504.5 seconds RetCode: 0 Status: OK CheckDir: infercnv.Rcheck Warnings: 0