Package: infercnv Version: 1.22.0 Command: /home/biocbuild/bbs-3.20-bioc/R/bin/R CMD INSTALL infercnv StartedAt: 2025-02-10 15:50:01 -0500 (Mon, 10 Feb 2025) EndedAt: 2025-02-10 15:50:44 -0500 (Mon, 10 Feb 2025) EllapsedTime: 43.1 seconds RetCode: 0 Status: OK