Package: infercnv Version: 1.22.0 Command: rm -rf infercnv.buildbin-libdir && mkdir infercnv.buildbin-libdir && F:\biocbuild\bbs-3.20-bioc\R\bin\R.exe CMD INSTALL --build --library=infercnv.buildbin-libdir infercnv_1.22.0.tar.gz StartedAt: 2025-02-11 08:41:06 -0500 (Tue, 11 Feb 2025) EndedAt: 2025-02-11 08:43:28 -0500 (Tue, 11 Feb 2025) EllapsedTime: 142.0 seconds RetCode: 0 Status: OK PackageFile: infercnv_1.22.0.zip PackageFileSize: 4.271 MiB