Package: interacCircos Version: 1.16.0 Command: /Library/Frameworks/R.framework/Resources/bin/R CMD build --keep-empty-dirs --no-resave-data interacCircos StartedAt: 2025-02-04 01:57:03 -0500 (Tue, 04 Feb 2025) EndedAt: 2025-02-04 01:57:14 -0500 (Tue, 04 Feb 2025) EllapsedTime: 10.4 seconds RetCode: 0 Status: OK PackageFile: interacCircos_1.16.0.tar.gz PackageFileSize: 710 KiB