Package: interacCircos Version: 1.16.0 Command: /Library/Frameworks/R.framework/Resources/bin/R CMD INSTALL interacCircos StartedAt: 2025-02-03 16:30:46 -0500 (Mon, 03 Feb 2025) EndedAt: 2025-02-03 16:30:50 -0500 (Mon, 03 Feb 2025) EllapsedTime: 3.8 seconds RetCode: 0 Status: OK