Package: interacCircos Version: 1.16.0 Command: /Library/Frameworks/R.framework/Resources/bin/R CMD build --keep-empty-dirs --no-resave-data interacCircos StartedAt: 2025-02-03 19:46:54 -0500 (Mon, 03 Feb 2025) EndedAt: 2025-02-03 19:47:12 -0500 (Mon, 03 Feb 2025) EllapsedTime: 17.8 seconds RetCode: 0 Status: OK PackageFile: interacCircos_1.16.0.tar.gz PackageFileSize: 710.2 KiB