Package: interacCircos Version: 1.16.0 Command: /home/biocbuild/bbs-3.20-bioc/R/bin/R CMD build --keep-empty-dirs --no-resave-data --md5 interacCircos StartedAt: 2025-02-03 17:54:11 -0500 (Mon, 03 Feb 2025) EndedAt: 2025-02-03 17:54:18 -0500 (Mon, 03 Feb 2025) EllapsedTime: 7.0 seconds RetCode: 0 Status: OK PackageFile: interacCircos_1.16.0.tar.gz PackageFileSize: 712.7 KiB