Package: interacCircos Version: 1.16.0 Command: /home/biocbuild/R/R/bin/R CMD build --keep-empty-dirs --no-resave-data interacCircos StartedAt: 2025-02-04 00:25:14 -0000 (Tue, 04 Feb 2025) EndedAt: 2025-02-04 00:25:23 -0000 (Tue, 04 Feb 2025) EllapsedTime: 9.0 seconds RetCode: 0 Status: OK PackageFile: interacCircos_1.16.0.tar.gz PackageFileSize: 878.6 KiB