Package: interacCircos Version: 1.16.0 Command: /home/biocbuild/R/R/bin/R CMD INSTALL interacCircos StartedAt: 2025-02-03 20:53:20 -0000 (Mon, 03 Feb 2025) EndedAt: 2025-02-03 20:53:24 -0000 (Mon, 03 Feb 2025) EllapsedTime: 4.1 seconds RetCode: 0 Status: OK