Package: interactiveDisplayBase Version: 1.44.0 Command: chmod a+r interactiveDisplayBase -R && F:\biocbuild\bbs-3.20-bioc\R\bin\R.exe CMD build --keep-empty-dirs --no-resave-data interactiveDisplayBase StartedAt: 2025-02-10 19:47:44 -0500 (Mon, 10 Feb 2025) EndedAt: 2025-02-10 19:48:00 -0500 (Mon, 10 Feb 2025) EllapsedTime: 16.0 seconds RetCode: 0 Status: OK PackageFile: interactiveDisplayBase_1.44.0.tar.gz PackageFileSize: 7.518 KiB