Package: interactiveDisplayBase Version: 1.44.0 Command: /home/biocbuild/R/R/bin/R CMD build --keep-empty-dirs --no-resave-data interactiveDisplayBase StartedAt: 2025-02-04 00:26:04 -0000 (Tue, 04 Feb 2025) EndedAt: 2025-02-04 00:26:11 -0000 (Tue, 04 Feb 2025) EllapsedTime: 7.0 seconds RetCode: 0 Status: OK PackageFile: interactiveDisplayBase_1.44.0.tar.gz PackageFileSize: 7.58 KiB