Package: ipdDb Version: 1.24.0 Command: /Library/Frameworks/R.framework/Resources/bin/R CMD check --install=check:ipdDb.install-out.txt --library=/Library/Frameworks/R.framework/Resources/library --no-vignettes --timings ipdDb_1.24.0.tar.gz StartedAt: 2025-01-31 22:53:29 -0500 (Fri, 31 Jan 2025) EndedAt: 2025-01-31 22:56:19 -0500 (Fri, 31 Jan 2025) EllapsedTime: 169.8 seconds RetCode: 0 Status: OK CheckDir: ipdDb.Rcheck Warnings: 0