Package: ipdDb Version: 1.24.0 Command: /Library/Frameworks/R.framework/Resources/bin/R CMD INSTALL ipdDb StartedAt: 2025-02-03 15:42:45 -0500 (Mon, 03 Feb 2025) EndedAt: 2025-02-03 15:42:54 -0500 (Mon, 03 Feb 2025) EllapsedTime: 8.5 seconds RetCode: 0 Status: OK