Package: ipdDb Version: 1.24.0 Command: rm -rf ipdDb.buildbin-libdir && mkdir ipdDb.buildbin-libdir && /Users/biocbuild/BBS/utils/build-universal.sh ipdDb_1.24.0.tar.gz /Library/Frameworks/R.framework/Resources/bin/R ipdDb.buildbin-libdir StartedAt: 2025-02-04 13:12:30 -0500 (Tue, 04 Feb 2025) EndedAt: 2025-02-04 13:13:20 -0500 (Tue, 04 Feb 2025) EllapsedTime: 49.1 seconds RetCode: 0 Status: OK PackageFile: ipdDb_1.24.0.tgz PackageFileSize: 419.2 KiB