Package: iterativeBMA Version: 1.64.0 Command: /Library/Frameworks/R.framework/Resources/bin/R CMD check --install=check:iterativeBMA.install-out.txt --library=/Library/Frameworks/R.framework/Resources/library --no-vignettes --timings iterativeBMA_1.64.0.tar.gz StartedAt: 2025-01-31 23:10:42 -0500 (Fri, 31 Jan 2025) EndedAt: 2025-01-31 23:11:37 -0500 (Fri, 31 Jan 2025) EllapsedTime: 55.8 seconds RetCode: 0 Status: OK CheckDir: iterativeBMA.Rcheck Warnings: 0