Package: iterativeBMA Version: 1.64.0 Command: /Library/Frameworks/R.framework/Resources/bin/R CMD INSTALL iterativeBMA StartedAt: 2025-01-30 16:11:46 -0500 (Thu, 30 Jan 2025) EndedAt: 2025-01-30 16:12:02 -0500 (Thu, 30 Jan 2025) EllapsedTime: 16.2 seconds RetCode: 0 Status: OK